BEGIN:VCALENDAR
VERSION:2.0
PRODID:-//frconline.org//NONSGML kigkonsult.se iCalcreator 2.30.10//
CALSCALE:GREGORIAN
METHOD:PUBLISH
UID:2fe7d540-2af4-4422-a324-9d22402773df
X-WR-CALDESC:A SUPPORT group not a class!\nA group of 7-12 foster/kinship p
 arents and two trained group leaders\n16 weekly 90-minute sessions\nA time
  to connect with other foster parents and kinship families\nYou will recei
 ve a $25 check for each remote session attended per household\nYou can ear
 n up to 24 foster parent training hours toward DHS certification\nAll DHS-
 certified foster parents and kinship families can join!
X-WR-RELCALID:f7584d3758848d0e6555d57d855e3520
X-WR-TIMEZONE:America/Los_Angeles
BEGIN:VTIMEZONE
TZID:America/Los_Angeles
BEGIN:STANDARD
TZNAME:PST
DTSTART:20241103T020000
TZOFFSETFROM:-0700
TZOFFSETTO:-0800
RDATE:20251102T020000
RDATE:20261101T020000
END:STANDARD
BEGIN:DAYLIGHT
TZNAME:PDT
DTSTART:20250309T020000
TZOFFSETFROM:-0800
TZOFFSETTO:-0700
RDATE:20260308T020000
RDATE:20270314T020000
END:DAYLIGHT
END:VTIMEZONE
BEGIN:VEVENT
UID:049d0294-774a-4639-a486-4fbd935858d0
DTSTAMP:20260419T121754Z
DESCRIPTION:A SUPPORT group not a class!\nA group of 7-12 foster/kinship pa
 rents and two trained group leaders\n16 weekly 90-minute sessions\nA time 
 to connect with other foster parents and kinship families\nYou will receiv
 e a $25 check for each remote session attended per household\nYou can earn
  up to 24 foster parent training hours toward DHS certification\nAll DHS-c
 ertified foster parents and kinship families can join!
DTSTART;TZID=America/Los_Angeles:20250925T180000
DTEND;TZID=America/Los_Angeles:20250925T193000
LOCATION:Class held on Zoom
SUMMARY:Keep Safe
END:VEVENT
END:VCALENDAR
