BEGIN:VCALENDAR
VERSION:2.0
PRODID:-//frconline.org//NONSGML kigkonsult.se iCalcreator 2.30.10//
CALSCALE:GREGORIAN
METHOD:PUBLISH
UID:378de64c-4acb-4b2b-90bb-cde95c4f9cf5
X-WR-CALDESC:KEEP Kinship support groups provide relative caregivers a welc
 ome place to share experiences\, get tips and strategies\, and most import
 antly\, the support that is critical in this frequently stressful role. Cl
 ass held on Zoom.
X-WR-RELCALID:275ce5f6fbf6c9f0c6a5f14e48dd94f3
X-WR-TIMEZONE:America/Los_Angeles
BEGIN:VTIMEZONE
TZID:America/Los_Angeles
BEGIN:STANDARD
TZNAME:PST
DTSTART:20241103T020000
TZOFFSETFROM:-0700
TZOFFSETTO:-0800
RDATE:20251102T020000
RDATE:20261101T020000
END:STANDARD
BEGIN:DAYLIGHT
TZNAME:PDT
DTSTART:20250309T020000
TZOFFSETFROM:-0800
TZOFFSETTO:-0700
RDATE:20260308T020000
RDATE:20270314T020000
END:DAYLIGHT
END:VTIMEZONE
BEGIN:VEVENT
UID:68f22c0b-37cc-4644-bbd4-1cccc82bcf3f
DTSTAMP:20260419T123003Z
DESCRIPTION:KEEP Kinship support groups provide relative caregivers a welco
 me place to share experiences\, get tips and strategies\, and most importa
 ntly\, the support that is critical in this frequently stressful role. Cla
 ss held on Zoom.
DTSTART;TZID=America/Los_Angeles:20250923T180000
DTEND;TZID=America/Los_Angeles:20250923T193000
LOCATION:Held on Zoom
SUMMARY:Keep Connecting Kin
END:VEVENT
END:VCALENDAR
