BEGIN:VCALENDAR
VERSION:2.0
PRODID:-//frconline.org//NONSGML kigkonsult.se iCalcreator 2.30.10//
CALSCALE:GREGORIAN
METHOD:PUBLISH
UID:b7befea1-593c-427f-858f-a4d0a5b89fb8
X-WR-CALDESC:Learn how to help your child feel safe\, regulate their emotio
 ns\, and build their self-esteem.
X-WR-RELCALID:42aea4ba1cf414b7d5c460da4136d731
X-WR-TIMEZONE:America/Los_Angeles
BEGIN:VTIMEZONE
TZID:America/Los_Angeles
BEGIN:STANDARD
TZNAME:PST
DTSTART:20241103T020000
TZOFFSETFROM:-0700
TZOFFSETTO:-0800
RDATE:20251102T020000
RDATE:20261101T020000
END:STANDARD
BEGIN:DAYLIGHT
TZNAME:PDT
DTSTART:20250309T020000
TZOFFSETFROM:-0800
TZOFFSETTO:-0700
RDATE:20260308T020000
END:DAYLIGHT
END:VTIMEZONE
BEGIN:VEVENT
UID:f962bdba-5209-40a9-a66a-591b01c8ff57
DTSTAMP:20260419T165925Z
DESCRIPTION:Learn how to help your child feel safe\, regulate their emotion
 s\, and build their self-esteem.
DTSTART;TZID=America/Los_Angeles:20250604T120000
DTEND;TZID=America/Los_Angeles:20250604T133000
LOCATION:2500 NE Twin Knolls Dr\, Bend\, OR 97701 US
SUMMARY:Circle of Security
END:VEVENT
END:VCALENDAR
