BEGIN:VCALENDAR
VERSION:2.0
PRODID:-//frconline.org//NONSGML kigkonsult.se iCalcreator 2.30.10//
CALSCALE:GREGORIAN
METHOD:PUBLISH
UID:307c29ec-ec1e-476a-8033-a265672cf120
X-WR-CALDESC:Understand how brain development impacts teen behavior and dec
 ision-making! Improve communication\, talk about technology and social med
 ia\, and more!
X-WR-RELCALID:960f453dbc6beba0093e149f59a6367d
X-WR-TIMEZONE:America/Los_Angeles
BEGIN:VTIMEZONE
TZID:America/Los_Angeles
BEGIN:STANDARD
TZNAME:PST
DTSTART:20241103T020000
TZOFFSETFROM:-0700
TZOFFSETTO:-0800
RDATE:20251102T020000
RDATE:20261101T020000
END:STANDARD
BEGIN:DAYLIGHT
TZNAME:PDT
DTSTART:20250309T020000
TZOFFSETFROM:-0800
TZOFFSETTO:-0700
RDATE:20260308T020000
END:DAYLIGHT
END:VTIMEZONE
BEGIN:VEVENT
UID:e0ed5c56-4ed8-4c3b-87fe-e8b9300ad0c4
DTSTAMP:20260419T190059Z
DESCRIPTION:Understand how brain development impacts teen behavior and deci
 sion-making! Improve communication\, talk about technology and social medi
 a\, and more!
DTSTART;TZID=America/Los_Angeles:20250514T120000
DTEND;TZID=America/Los_Angeles:20250514T130000
LOCATION:Held on Zoom
SUMMARY:Active Parenting of Teens Workshop
END:VEVENT
END:VCALENDAR
