BEGIN:VCALENDAR
VERSION:2.0
PRODID:-//frconline.org//NONSGML kigkonsult.se iCalcreator 2.30.10//
CALSCALE:GREGORIAN
METHOD:PUBLISH
UID:469a8d90-3a63-452b-a1e0-d7495caea353
X-WR-CALDESC:Parent Cafes are a unique fun way to share the challenges and 
 rewards that come with parenting in small group conversations.
X-WR-RELCALID:29032b006e9c54afb35aff5fe9938af0
X-WR-TIMEZONE:America/Los_Angeles
BEGIN:VTIMEZONE
TZID:America/Los_Angeles
BEGIN:STANDARD
TZNAME:PST
DTSTART:20241103T020000
TZOFFSETFROM:-0700
TZOFFSETTO:-0800
RDATE:20251102T020000
RDATE:20261101T020000
END:STANDARD
BEGIN:DAYLIGHT
TZNAME:PDT
DTSTART:20250309T020000
TZOFFSETFROM:-0800
TZOFFSETTO:-0700
RDATE:20260308T020000
END:DAYLIGHT
END:VTIMEZONE
BEGIN:VEVENT
UID:884ccd4a-c68d-4e0b-9898-a93b2b577137
DTSTAMP:20260419T185431Z
DESCRIPTION:Parent Cafes are a unique fun way to share the challenges and r
 ewards that come with parenting in small group conversations.
DTSTART;TZID=America/Los_Angeles:20250508T180000
DTEND;TZID=America/Los_Angeles:20250508T200000
LOCATION:Rosland Elementary School\, 52350 Yaeger Dr.  \, La Pine \, OR 977
 39 US
SUMMARY:Parent Café
END:VEVENT
END:VCALENDAR
