BEGIN:VCALENDAR
VERSION:2.0
PRODID:-//frconline.org//NONSGML kigkonsult.se iCalcreator 2.30.10//
CALSCALE:GREGORIAN
METHOD:PUBLISH
UID:198b2db9-f4f5-42da-88e6-74651155959f
X-WR-CALDESC:Understand how brain development impacts teen behavior and dec
 ision-making! Improve communication\, talk about technology and social med
 ia\, and more!
X-WR-RELCALID:33213b8b5b0eca5397c15bfc883180a0
X-WR-TIMEZONE:America/Los_Angeles
BEGIN:VTIMEZONE
TZID:America/Los_Angeles
BEGIN:STANDARD
TZNAME:PST
DTSTART:20241103T020000
TZOFFSETFROM:-0700
TZOFFSETTO:-0800
RDATE:20251102T020000
RDATE:20261101T020000
END:STANDARD
BEGIN:DAYLIGHT
TZNAME:PDT
DTSTART:20250309T020000
TZOFFSETFROM:-0800
TZOFFSETTO:-0700
RDATE:20260308T020000
END:DAYLIGHT
END:VTIMEZONE
BEGIN:VEVENT
UID:89489cf9-22d7-44f2-aec5-b41bfa84abcd
DTSTAMP:20260419T190052Z
DESCRIPTION:Understand how brain development impacts teen behavior and deci
 sion-making! Improve communication\, talk about technology and social medi
 a\, and more!
DTSTART;TZID=America/Los_Angeles:20250507T120000
DTEND;TZID=America/Los_Angeles:20250507T130000
LOCATION:Held on Zoom
SUMMARY:Active Parenting of Teens Workshop
END:VEVENT
END:VCALENDAR
