BEGIN:VCALENDAR
VERSION:2.0
PRODID:-//frconline.org//NONSGML kigkonsult.se iCalcreator 2.30.10//
CALSCALE:GREGORIAN
METHOD:PUBLISH
UID:b1591473-33ac-46b3-b0b1-c727c580c451
X-WR-CALDESC:KEEP support groups provide a welcome place to share experienc
 es\, get tips and strategies\, and most importantly the support that is cr
 itical in this frequently stressful role.
X-WR-RELCALID:6390abab6c0d7695ea7f4448f9275f93
X-WR-TIMEZONE:America/Los_Angeles
BEGIN:VTIMEZONE
TZID:America/Los_Angeles
BEGIN:STANDARD
TZNAME:PST
DTSTART:20241103T020000
TZOFFSETFROM:-0700
TZOFFSETTO:-0800
RDATE:20251102T020000
END:STANDARD
BEGIN:DAYLIGHT
TZNAME:PDT
DTSTART:20250309T020000
TZOFFSETFROM:-0800
TZOFFSETTO:-0700
RDATE:20260308T020000
END:DAYLIGHT
END:VTIMEZONE
BEGIN:VEVENT
UID:60c27355-e42c-4723-aee4-cd9d217ce9bb
DTSTAMP:20260419T204847Z
DESCRIPTION:KEEP support groups provide a welcome place to share experience
 s\, get tips and strategies\, and most importantly the support that is cri
 tical in this frequently stressful role.
DTSTART;TZID=America/Los_Angeles:20250422T180000
DTEND;TZID=America/Los_Angeles:20250422T193000
LOCATION:Held on Zoom
SUMMARY:KEEP Toddler
END:VEVENT
END:VCALENDAR
