BEGIN:VCALENDAR
VERSION:2.0
PRODID:-//frconline.org//NONSGML kigkonsult.se iCalcreator 2.30.10//
CALSCALE:GREGORIAN
METHOD:PUBLISH
UID:6782d486-c3a9-43c1-a487-3a79811ecea2
X-WR-CALDESC:KEEP support groups provide a welcome place to share experienc
 es\, get tips and strategies\, and most importantly the support that is cr
 itical in this frequently stressful role.
X-WR-RELCALID:b7790d886c83e209bcd4339f6ee489eb
X-WR-TIMEZONE:America/Los_Angeles
BEGIN:VTIMEZONE
TZID:America/Los_Angeles
BEGIN:STANDARD
TZNAME:PST
DTSTART:20241103T020000
TZOFFSETFROM:-0700
TZOFFSETTO:-0800
RDATE:20251102T020000
END:STANDARD
BEGIN:DAYLIGHT
TZNAME:PDT
DTSTART:20250309T020000
TZOFFSETFROM:-0800
TZOFFSETTO:-0700
RDATE:20260308T020000
END:DAYLIGHT
END:VTIMEZONE
BEGIN:VEVENT
UID:64ce7c76-e5a1-4503-b9d0-843365899e3c
DTSTAMP:20260419T203321Z
DESCRIPTION:KEEP support groups provide a welcome place to share experience
 s\, get tips and strategies\, and most importantly the support that is cri
 tical in this frequently stressful role.
DTSTART;TZID=America/Los_Angeles:20250421T180000
DTEND;TZID=America/Los_Angeles:20250421T193000
LOCATION:Held on Zoom
SUMMARY:KEEP Toddler
END:VEVENT
END:VCALENDAR
