BEGIN:VCALENDAR
VERSION:2.0
PRODID:-//frconline.org//NONSGML kigkonsult.se iCalcreator 2.30.10//
CALSCALE:GREGORIAN
METHOD:PUBLISH
UID:7cd2cb26-b96a-41b1-bacc-34fbb84be6d6
X-WR-CALDESC:Understand how brain development impacts teen behavior and dec
 ision-making! Improve communication\, talk about technology and social med
 ia\, and more!
X-WR-RELCALID:7d44f4ac0d96c952e23bc1aae6443b97
X-WR-TIMEZONE:America/Los_Angeles
BEGIN:VTIMEZONE
TZID:America/Los_Angeles
BEGIN:STANDARD
TZNAME:PST
DTSTART:20241103T020000
TZOFFSETFROM:-0700
TZOFFSETTO:-0800
RDATE:20251102T020000
END:STANDARD
BEGIN:DAYLIGHT
TZNAME:PDT
DTSTART:20250309T020000
TZOFFSETFROM:-0800
TZOFFSETTO:-0700
RDATE:20260308T020000
END:DAYLIGHT
END:VTIMEZONE
BEGIN:VEVENT
UID:9529db2c-4ee3-496d-80e9-59e1ec0841a5
DTSTAMP:20260419T205240Z
DESCRIPTION:Understand how brain development impacts teen behavior and deci
 sion-making! Improve communication\, talk about technology and social medi
 a\, and more!
DTSTART;TZID=America/Los_Angeles:20250409T120000
DTEND;TZID=America/Los_Angeles:20250409T130000
LOCATION:Held on Zoom
SUMMARY:Active Parenting of Teens Workshop
END:VEVENT
END:VCALENDAR
