BEGIN:VCALENDAR
VERSION:2.0
PRODID:-//frconline.org//NONSGML kigkonsult.se iCalcreator 2.30.10//
CALSCALE:GREGORIAN
METHOD:PUBLISH
UID:9c7956c7-53ab-4fb5-aff7-f53e9a70f182
X-WR-CALDESC:Learn the art of mindful parenting and...\n-Emotional intellig
 ence in parenting\, \n-Mindfulness and self-care \n-Breaking generational 
 patterns and much more.
X-WR-RELCALID:5b56d9a250977fe24427bafe501978d0
X-WR-TIMEZONE:America/Los_Angeles
BEGIN:VTIMEZONE
TZID:America/Los_Angeles
BEGIN:STANDARD
TZNAME:PST
DTSTART:20241103T020000
TZOFFSETFROM:-0700
TZOFFSETTO:-0800
RDATE:20251102T020000
END:STANDARD
BEGIN:DAYLIGHT
TZNAME:PDT
DTSTART:20250309T020000
TZOFFSETFROM:-0800
TZOFFSETTO:-0700
RDATE:20260308T020000
END:DAYLIGHT
END:VTIMEZONE
BEGIN:VEVENT
UID:a0047588-fd5a-4db3-a598-4f879a664f84
DTSTAMP:20260419T203156Z
DESCRIPTION:Learn the art of mindful parenting and...\n-Emotional intellige
 nce in parenting\, \n-Mindfulness and self-care \n-Breaking generational p
 atterns and much more.
DTSTART;TZID=America/Los_Angeles:20250403T173000
DTEND;TZID=America/Los_Angeles:20250403T190000
LOCATION:Family Resource Center\, 2500 NE Twin Knolls Dr\, Bend\, OR 97701 
 US
SUMMARY:Rooted In Love
END:VEVENT
END:VCALENDAR
