BEGIN:VCALENDAR
VERSION:2.0
PRODID:-//frconline.org//NONSGML kigkonsult.se iCalcreator 2.30.10//
CALSCALE:GREGORIAN
METHOD:PUBLISH
UID:571cb508-6a20-4716-af87-5e8f55495a5e
X-WR-CALDESC:Join us for a fun evening of painting! Bring a friend and leav
 e with a masterpiece. Proceeds benefit Family Resource Center.
X-WR-RELCALID:2050b9a1a701ed7c3ec1c0a4a10ec713
X-WR-TIMEZONE:America/Los_Angeles
BEGIN:VTIMEZONE
TZID:America/Los_Angeles
BEGIN:STANDARD
TZNAME:PST
DTSTART:20241103T020000
TZOFFSETFROM:-0700
TZOFFSETTO:-0800
RDATE:20251102T020000
END:STANDARD
BEGIN:DAYLIGHT
TZNAME:PDT
DTSTART:20240310T020000
TZOFFSETFROM:-0800
TZOFFSETTO:-0700
RDATE:20250309T020000
RDATE:20260308T020000
END:DAYLIGHT
END:VTIMEZONE
BEGIN:VEVENT
UID:82803571-16f8-4d94-a627-b68fc3ee1c3e
DTSTAMP:20260419T235158Z
DESCRIPTION:Join us for a fun evening of painting! Bring a friend and leave
  with a masterpiece. Proceeds benefit Family Resource Center.
DTSTART;TZID=America/Los_Angeles:20250206T180000
DTEND;TZID=America/Los_Angeles:20250206T200000
LOCATION:Wild Ride Brew\, 332 SW 5th St\, Redmond\, OR 97756 US
SUMMARY:Paint Night at Wild Ride
END:VEVENT
END:VCALENDAR
