BEGIN:VCALENDAR
VERSION:2.0
PRODID:-//frconline.org//NONSGML kigkonsult.se iCalcreator 2.30.10//
CALSCALE:GREGORIAN
METHOD:PUBLISH
UID:4676e609-5597-4bc2-a9fd-59d2c7d3f578
X-WR-CALDESC:Increase cooperation\nResist negative peer pressure\nHelp chil
 dren thrive
X-WR-RELCALID:dfbb586c44c9754f306e18f1f74629c4
X-WR-TIMEZONE:America/Los_Angeles
BEGIN:VTIMEZONE
TZID:America/Los_Angeles
BEGIN:STANDARD
TZNAME:PST
DTSTART:20241103T020000
TZOFFSETFROM:-0700
TZOFFSETTO:-0800
RDATE:20251102T020000
END:STANDARD
BEGIN:DAYLIGHT
TZNAME:PDT
DTSTART:20240310T020000
TZOFFSETFROM:-0800
TZOFFSETTO:-0700
RDATE:20250309T020000
RDATE:20260308T020000
END:DAYLIGHT
END:VTIMEZONE
BEGIN:VEVENT
UID:c672f00e-c806-496e-ad3f-835e96a4ca11
DTSTAMP:20260419T235012Z
DESCRIPTION:Increase cooperation\nResist negative peer pressure\nHelp child
 ren thrive
DTSTART;TZID=America/Los_Angeles:20250205T173000
DTEND;TZID=America/Los_Angeles:20250205T193000
LOCATION:Family Resource Center\, 2500 NE Twin Knolls Dr\, Bend\, AL 97701 
 US
SUMMARY:Active Parenting
END:VEVENT
END:VCALENDAR
