BEGIN:VCALENDAR
VERSION:2.0
PRODID:-//frconline.org//NONSGML kigkonsult.se iCalcreator 2.30.10//
CALSCALE:GREGORIAN
METHOD:PUBLISH
UID:48869d38-2192-492f-8be6-0b7d7c3992fe
X-WR-CALDESC:Keep Standard is for foster parents with children 4-12 years o
 ld.\nKEEP foster parent support groups provide foster parents a welcome pl
 ace to share experiences\, get tips and strategies\, and most importantly 
 the support that is critical in this frequently stressful role
X-WR-RELCALID:a8469663bfb9669a521dc6deb1913750
X-WR-TIMEZONE:America/Los_Angeles
BEGIN:VTIMEZONE
TZID:America/Los_Angeles
BEGIN:STANDARD
TZNAME:PST
DTSTART:20241103T020000
TZOFFSETFROM:-0700
TZOFFSETTO:-0800
RDATE:20251102T020000
END:STANDARD
BEGIN:DAYLIGHT
TZNAME:PDT
DTSTART:20240310T020000
TZOFFSETFROM:-0800
TZOFFSETTO:-0700
RDATE:20250309T020000
RDATE:20260308T020000
END:DAYLIGHT
END:VTIMEZONE
BEGIN:VEVENT
UID:f986728b-0e21-41ad-9a81-024053e472f2
DTSTAMP:20260420T013317Z
DESCRIPTION:Keep Standard is for foster parents with children 4-12 years ol
 d.\nKEEP foster parent support groups provide foster parents a welcome pla
 ce to share experiences\, get tips and strategies\, and most importantly t
 he support that is critical in this frequently stressful role
DTSTART;TZID=America/Los_Angeles:20250115T180000
DTEND;TZID=America/Los_Angeles:20250115T193000
LOCATION:Held on Zoom
SUMMARY:KEEP Standard
END:VEVENT
END:VCALENDAR
