BEGIN:VCALENDAR
VERSION:2.0
PRODID:-//frconline.org//NONSGML kigkonsult.se iCalcreator 2.30.10//
CALSCALE:GREGORIAN
METHOD:PUBLISH
UID:ce19eb70-c2a2-4938-a697-8c0701ab5534
X-WR-CALDESC:Keep Standard is for foster parents with children 4-12 years o
 ld.\nKEEP foster parent support groups provide foster parents a welcome pl
 ace to share experiences\, get tips and strategies\, and most importantly 
 the support that is critical in this frequently stressful role
X-WR-RELCALID:71b4c602c38530aec2dba0b55624cc6c
X-WR-TIMEZONE:America/Los_Angeles
BEGIN:VTIMEZONE
TZID:America/Los_Angeles
BEGIN:STANDARD
TZNAME:PST
DTSTART:20241103T020000
TZOFFSETFROM:-0700
TZOFFSETTO:-0800
RDATE:20251102T020000
END:STANDARD
BEGIN:DAYLIGHT
TZNAME:PDT
DTSTART:20240310T020000
TZOFFSETFROM:-0800
TZOFFSETTO:-0700
RDATE:20250309T020000
RDATE:20260308T020000
END:DAYLIGHT
END:VTIMEZONE
BEGIN:VEVENT
UID:57067b3d-1d7a-4739-acf4-03df44db90c2
DTSTAMP:20260420T013332Z
DESCRIPTION:Keep Standard is for foster parents with children 4-12 years ol
 d.\nKEEP foster parent support groups provide foster parents a welcome pla
 ce to share experiences\, get tips and strategies\, and most importantly t
 he support that is critical in this frequently stressful role
DTSTART;TZID=America/Los_Angeles:20250108T180000
DTEND;TZID=America/Los_Angeles:20250108T193000
LOCATION:Held on Zoom
SUMMARY:KEEP Standard
END:VEVENT
END:VCALENDAR
