BEGIN:VCALENDAR
VERSION:2.0
PRODID:-//frconline.org//NONSGML kigkonsult.se iCalcreator 2.30.10//
CALSCALE:GREGORIAN
METHOD:PUBLISH
UID:7c406e84-2cba-4868-84a0-819ff15b18f6
X-WR-CALDESC:Join us as we focus on ourselves and our families through the 
 topics of self-compassion\, self-worth\, and empathy.
X-WR-RELCALID:e72911d73fff4e4796f5b4ccfea50255
X-WR-TIMEZONE:America/Los_Angeles
BEGIN:VTIMEZONE
TZID:America/Los_Angeles
BEGIN:STANDARD
TZNAME:PST
DTSTART:20241103T020000
TZOFFSETFROM:-0700
TZOFFSETTO:-0800
RDATE:20251102T020000
END:STANDARD
BEGIN:DAYLIGHT
TZNAME:PDT
DTSTART:20240310T020000
TZOFFSETFROM:-0800
TZOFFSETTO:-0700
RDATE:20250309T020000
RDATE:20260308T020000
END:DAYLIGHT
END:VTIMEZONE
BEGIN:VEVENT
UID:9feefd77-2089-492c-94bd-2c91474b7414
DTSTAMP:20260420T032515Z
DESCRIPTION:Join us as we focus on ourselves and our families through the t
 opics of self-compassion\, self-worth\, and empathy.
DTSTART;TZID=America/Los_Angeles:20241211T173000
DTEND;TZID=America/Los_Angeles:20241211T193000
LOCATION:2500 NE Twin Knolls Dr\, Bend\, OR 97701 US
SUMMARY:Connecting with Kindness
END:VEVENT
END:VCALENDAR
