BEGIN:VCALENDAR
VERSION:2.0
PRODID:-//frconline.org//NONSGML kigkonsult.se iCalcreator 2.30.10//
CALSCALE:GREGORIAN
METHOD:PUBLISH
UID:4d725f48-c02c-48b1-ae9e-cdce391c9fca
X-WR-CALDESC:Learn about technology & social media\nHow brain development a
 ffects teen behavior and decision-making\nImprove communication & more!
X-WR-RELCALID:dca5c2b296b7ab22985ddf8069a7e6fc
X-WR-TIMEZONE:America/Los_Angeles
BEGIN:VTIMEZONE
TZID:America/Los_Angeles
BEGIN:STANDARD
TZNAME:PST
DTSTART:20241103T020000
TZOFFSETFROM:-0700
TZOFFSETTO:-0800
RDATE:20251102T020000
END:STANDARD
BEGIN:DAYLIGHT
TZNAME:PDT
DTSTART:20240310T020000
TZOFFSETFROM:-0800
TZOFFSETTO:-0700
RDATE:20250309T020000
RDATE:20260308T020000
END:DAYLIGHT
END:VTIMEZONE
BEGIN:VEVENT
UID:2bc23076-154b-4edc-9d49-6169acfed349
DTSTAMP:20260420T051303Z
DESCRIPTION:Learn about technology & social media\nHow brain development af
 fects teen behavior and decision-making\nImprove communication & more!
DTSTART;TZID=America/Los_Angeles:20241112T173000
DTEND;TZID=America/Los_Angeles:20241112T193000
LOCATION:Held on Zoom
SUMMARY:Active Parenting of Teens
END:VEVENT
END:VCALENDAR
