BEGIN:VCALENDAR
VERSION:2.0
PRODID:-//frconline.org//NONSGML kigkonsult.se iCalcreator 2.30.10//
CALSCALE:GREGORIAN
METHOD:PUBLISH
UID:d3524c2d-7ab4-4f60-9984-8e5d32a571ac
X-WR-CALDESC:This is fun interactive program that uses child-centered play 
 to develop positive relationships.
X-WR-RELCALID:0e9ac4538d6c50be0fea8bd61e136986
X-WR-TIMEZONE:America/Los_Angeles
BEGIN:VTIMEZONE
TZID:America/Los_Angeles
BEGIN:STANDARD
TZNAME:PST
DTSTART:20231105T020000
TZOFFSETFROM:-0700
TZOFFSETTO:-0800
RDATE:20241103T020000
RDATE:20251102T020000
END:STANDARD
BEGIN:DAYLIGHT
TZNAME:PDT
DTSTART:20240310T020000
TZOFFSETFROM:-0800
TZOFFSETTO:-0700
RDATE:20250309T020000
RDATE:20260308T020000
END:DAYLIGHT
END:VTIMEZONE
BEGIN:VEVENT
UID:36974aa8-b287-46dd-a3ba-e5b32ea6d848
DTSTAMP:20260420T064501Z
DESCRIPTION:This is fun interactive program that uses child-centered play t
 o develop positive relationships.
DTSTART;TZID=America/Los_Angeles:20241023T173000
DTEND;TZID=America/Los_Angeles:20241023T193000
LOCATION:Family Resource Center\, 1200 NE Twin Knolls Dr\, Bend\, OR 97701 
 US
SUMMARY:The Incredible Years
END:VEVENT
END:VCALENDAR
