BEGIN:VCALENDAR
VERSION:2.0
PRODID:-//frconline.org//NONSGML kigkonsult.se iCalcreator 2.30.10//
CALSCALE:GREGORIAN
METHOD:PUBLISH
UID:bf6c437f-bcba-431c-b31f-90c5fd2c57c6
X-WR-CALDESC:This is fun interactive program that uses child-centered play 
 to develop positive relationships.
X-WR-RELCALID:16c7494cc895722fad608a0b6ea21bb7
X-WR-TIMEZONE:America/Los_Angeles
BEGIN:VTIMEZONE
TZID:America/Los_Angeles
BEGIN:STANDARD
TZNAME:PST
DTSTART:20231105T020000
TZOFFSETFROM:-0700
TZOFFSETTO:-0800
RDATE:20241103T020000
RDATE:20251102T020000
END:STANDARD
BEGIN:DAYLIGHT
TZNAME:PDT
DTSTART:20240310T020000
TZOFFSETFROM:-0800
TZOFFSETTO:-0700
RDATE:20250309T020000
RDATE:20260308T020000
END:DAYLIGHT
END:VTIMEZONE
BEGIN:VEVENT
UID:8cf6213e-89e7-498c-9eef-a6e7df2146f5
DTSTAMP:20260420T064500Z
DESCRIPTION:This is fun interactive program that uses child-centered play t
 o develop positive relationships.
DTSTART;TZID=America/Los_Angeles:20241009T173000
DTEND;TZID=America/Los_Angeles:20241009T193000
LOCATION:Family Resource Center\, 1200 NE Twin Knolls Dr\, Bend\, OR 97701 
 US
SUMMARY:The Incredible Years
END:VEVENT
END:VCALENDAR
