BEGIN:VCALENDAR
VERSION:2.0
PRODID:-//frconline.org//NONSGML kigkonsult.se iCalcreator 2.30.10//
CALSCALE:GREGORIAN
METHOD:PUBLISH
UID:d849dd64-c36a-40cc-b1e3-afeca732ea6e
X-WR-CALDESC:A SUPPORT group not a class!\nA group of 7-12 foster/kinship p
 arents and two trained group leaders\n16 weekly 90-minute sessions\nA time
  to connect with other foster parents and kinship families\nYou will recei
 ve a $25 check for each remote session attended per household\nYou can ear
 n up to 24 foster parent training hours toward DHS certification\nAll DHS-
 certified foster parents and kinship families can join!
X-WR-RELCALID:5d40ffe8a28a8773a9a899e33a9b33d9
X-WR-TIMEZONE:America/Los_Angeles
BEGIN:VTIMEZONE
TZID:America/Los_Angeles
BEGIN:STANDARD
TZNAME:PST
DTSTART:20231105T020000
TZOFFSETFROM:-0700
TZOFFSETTO:-0800
RDATE:20241103T020000
RDATE:20251102T020000
END:STANDARD
BEGIN:DAYLIGHT
TZNAME:PDT
DTSTART:20240310T020000
TZOFFSETFROM:-0800
TZOFFSETTO:-0700
RDATE:20250309T020000
RDATE:20260308T020000
END:DAYLIGHT
END:VTIMEZONE
BEGIN:VEVENT
UID:223c4ef9-cbce-4f7c-9455-b59ce28a9191
DTSTAMP:20260420T064134Z
DESCRIPTION:A SUPPORT group not a class!\nA group of 7-12 foster/kinship pa
 rents and two trained group leaders\n16 weekly 90-minute sessions\nA time 
 to connect with other foster parents and kinship families\nYou will receiv
 e a $25 check for each remote session attended per household\nYou can earn
  up to 24 foster parent training hours toward DHS certification\nAll DHS-c
 ertified foster parents and kinship families can join!
DTSTART;TZID=America/Los_Angeles:20241007T180000
DTEND;TZID=America/Los_Angeles:20241007T193000
LOCATION:Class held on Zoom
SUMMARY:Keep Safe
END:VEVENT
END:VCALENDAR
