BEGIN:VCALENDAR
VERSION:2.0
PRODID:-//frconline.org//NONSGML kigkonsult.se iCalcreator 2.30.10//
CALSCALE:GREGORIAN
METHOD:PUBLISH
UID:1db89495-4428-4ebe-acd3-16965ebe4a16
X-WR-CALDESC:Celebrate WIC's 50th Anniversary!
X-WR-RELCALID:73182f3e5c15816b5e55ca2a707ef17d
X-WR-TIMEZONE:America/Los_Angeles
BEGIN:VTIMEZONE
TZID:America/Los_Angeles
BEGIN:STANDARD
TZNAME:PST
DTSTART:20231105T020000
TZOFFSETFROM:-0700
TZOFFSETTO:-0800
RDATE:20241103T020000
RDATE:20251102T020000
END:STANDARD
BEGIN:DAYLIGHT
TZNAME:PDT
DTSTART:20240310T020000
TZOFFSETFROM:-0800
TZOFFSETTO:-0700
RDATE:20250309T020000
RDATE:20260308T020000
END:DAYLIGHT
END:VTIMEZONE
BEGIN:VEVENT
UID:ca473e72-6a32-48bc-a500-e72cc9510beb
DTSTAMP:20260420T082210Z
DESCRIPTION:Celebrate WIC's 50th Anniversary!
DTSTART;TZID=America/Los_Angeles:20240926T150000
DTEND;TZID=America/Los_Angeles:20240926T190000
LOCATION:Jefferson County Public Health Community Room\, 500 NE A St\, Madr
 as\, OR 97741 US
SUMMARY:WIC's 50th Anniversary Celebration
END:VEVENT
END:VCALENDAR
