BEGIN:VCALENDAR
VERSION:2.0
PRODID:-//frconline.org//NONSGML kigkonsult.se iCalcreator 2.30.10//
CALSCALE:GREGORIAN
METHOD:PUBLISH
UID:ec990346-ecde-4c06-9da0-c143597d810a
X-WR-CALDESC:Improve Communication! \nDiscuss Tech & Teens - Brain Developm
 ent & Decision Making
X-WR-RELCALID:1bfa29dd72e3570301bdcdaadf8821ed
X-WR-TIMEZONE:America/Los_Angeles
BEGIN:VTIMEZONE
TZID:America/Los_Angeles
BEGIN:STANDARD
TZNAME:PST
DTSTART:20231105T020000
TZOFFSETFROM:-0700
TZOFFSETTO:-0800
RDATE:20241103T020000
RDATE:20251102T020000
END:STANDARD
BEGIN:DAYLIGHT
TZNAME:PDT
DTSTART:20240310T020000
TZOFFSETFROM:-0800
TZOFFSETTO:-0700
RDATE:20250309T020000
RDATE:20260308T020000
END:DAYLIGHT
END:VTIMEZONE
BEGIN:VEVENT
UID:c740a063-51a8-4474-a80e-9fb60c97ea5e
DTSTAMP:20260422T085937Z
DESCRIPTION:Improve Communication! \nDiscuss Tech & Teens - Brain Developme
 nt & Decision Making
DTSTART;TZID=America/Los_Angeles:20240926T180000
DTEND;TZID=America/Los_Angeles:20240926T200000
LOCATION:Held on Zoom
SUMMARY:Active Parenting of Teens
END:VEVENT
END:VCALENDAR
