BEGIN:VCALENDAR
VERSION:2.0
PRODID:-//frconline.org//NONSGML kigkonsult.se iCalcreator 2.30.10//
CALSCALE:GREGORIAN
METHOD:PUBLISH
UID:35b2144f-808a-47ac-af94-4d85754bcb71
X-WR-CALDESC:Come enjoy a meal at Red Robin! 20% of all food sales go back 
 to Family Resource Center. Enjoy a burger while helping Central Oregon Fam
 ilies. Mention the flyer to your server or follow the detailed instruction
 s on the flyer for to-go orders.
X-WR-RELCALID:f64238bebe6cc377ff8177583fbd1b51
X-WR-TIMEZONE:America/Los_Angeles
BEGIN:VTIMEZONE
TZID:America/Los_Angeles
BEGIN:STANDARD
TZNAME:PST
DTSTART:20231105T020000
TZOFFSETFROM:-0700
TZOFFSETTO:-0800
RDATE:20241103T020000
RDATE:20251102T020000
END:STANDARD
BEGIN:DAYLIGHT
TZNAME:PDT
DTSTART:20240310T020000
TZOFFSETFROM:-0800
TZOFFSETTO:-0700
RDATE:20250309T020000
RDATE:20260308T020000
END:DAYLIGHT
END:VTIMEZONE
BEGIN:VEVENT
UID:699bd6b1-642d-4458-a0f8-78430ce36fcc
DTSTAMP:20260420T081250Z
DESCRIPTION:Come enjoy a meal at Red Robin! 20% of all food sales go back t
 o Family Resource Center. Enjoy a burger while helping Central Oregon Fami
 lies. Mention the flyer to your server or follow the detailed instructions
  on the flyer for to-go orders.
DTSTART;TZID=America/Los_Angeles:20240925T113000
DTEND;TZID=America/Los_Angeles:20240925T210000
LOCATION:Red Robin\, 625 SW Powerhouse\, Bend\, OR 97701 US
SUMMARY:Red Robin Fundraiser
END:VEVENT
END:VCALENDAR
