BEGIN:VCALENDAR
VERSION:2.0
PRODID:-//frconline.org//NONSGML kigkonsult.se iCalcreator 2.30.10//
CALSCALE:GREGORIAN
METHOD:PUBLISH
UID:da01014b-125a-4213-bad2-19380e5e45a0
X-WR-CALDESC:Improve Communication! \nDiscuss Tech & Teens - Brain Developm
 ent & Decision Making
X-WR-RELCALID:de05aaf0cfb36d263938b0df5e13899e
X-WR-TIMEZONE:America/Los_Angeles
BEGIN:VTIMEZONE
TZID:America/Los_Angeles
BEGIN:STANDARD
TZNAME:PST
DTSTART:20231105T020000
TZOFFSETFROM:-0700
TZOFFSETTO:-0800
RDATE:20241103T020000
RDATE:20251102T020000
END:STANDARD
BEGIN:DAYLIGHT
TZNAME:PDT
DTSTART:20240310T020000
TZOFFSETFROM:-0800
TZOFFSETTO:-0700
RDATE:20250309T020000
RDATE:20260308T020000
END:DAYLIGHT
END:VTIMEZONE
BEGIN:VEVENT
UID:8513072c-30f4-41fe-8e6d-f88b3006ceb6
DTSTAMP:20260420T082114Z
DESCRIPTION:Improve Communication! \nDiscuss Tech & Teens - Brain Developme
 nt & Decision Making
DTSTART;TZID=America/Los_Angeles:20240919T180000
DTEND;TZID=America/Los_Angeles:20240919T200000
LOCATION:Held on Zoom
SUMMARY:Active Parenting of Teens
END:VEVENT
END:VCALENDAR
