BEGIN:VCALENDAR
VERSION:2.0
PRODID:-//frconline.org//NONSGML kigkonsult.se iCalcreator 2.30.10//
CALSCALE:GREGORIAN
METHOD:PUBLISH
UID:394207c2-3846-417c-b556-ed78e7afd60c
X-WR-CALDESC:KEEP Kinship support groups provide relative caregivers a welc
 ome place to share experiences\, get tips and strategies\, and most import
 antly\, the support that is critical in this frequently stressful role. Cl
 ass held on Zoom.
X-WR-RELCALID:c1152b01b0cbef8fe81c514f65db4a3c
X-WR-TIMEZONE:America/Los_Angeles
BEGIN:VTIMEZONE
TZID:America/Los_Angeles
BEGIN:STANDARD
TZNAME:PST
DTSTART:20231105T020000
TZOFFSETFROM:-0700
TZOFFSETTO:-0800
RDATE:20241103T020000
RDATE:20251102T020000
END:STANDARD
BEGIN:DAYLIGHT
TZNAME:PDT
DTSTART:20240310T020000
TZOFFSETFROM:-0800
TZOFFSETTO:-0700
RDATE:20250309T020000
END:DAYLIGHT
END:VTIMEZONE
BEGIN:VEVENT
UID:e5f4d2ef-df3d-448a-bc9b-1e81174e7d5a
DTSTAMP:20260420T094515Z
DESCRIPTION:KEEP Kinship support groups provide relative caregivers a welco
 me place to share experiences\, get tips and strategies\, and most importa
 ntly\, the support that is critical in this frequently stressful role. Cla
 ss held on Zoom.
DTSTART;TZID=America/Los_Angeles:20240814T180000
DTEND;TZID=America/Los_Angeles:20240814T193000
LOCATION:Held via Zoom
SUMMARY:Keep Connecting Kin
END:VEVENT
END:VCALENDAR
