BEGIN:VCALENDAR
VERSION:2.0
PRODID:-//frconline.org//NONSGML kigkonsult.se iCalcreator 2.30.10//
CALSCALE:GREGORIAN
METHOD:PUBLISH
UID:2971cf4c-d580-4cba-89d9-6bbef6bf7374
X-WR-CALDESC:KEEP Kinship support groups provide relative caregivers a welc
 ome place to share experiences\, get tips and strategies\, and most import
 antly the support that is critical in this frequently stressful role. Clas
 s held on Zoom.
X-WR-RELCALID:1612cd03c9fc9e3e4f8367d8053d3544
X-WR-TIMEZONE:America/Los_Angeles
BEGIN:VTIMEZONE
TZID:America/Los_Angeles
BEGIN:STANDARD
TZNAME:PST
DTSTART:20231105T020000
TZOFFSETFROM:-0700
TZOFFSETTO:-0800
RDATE:20241103T020000
RDATE:20251102T020000
END:STANDARD
BEGIN:DAYLIGHT
TZNAME:PDT
DTSTART:20240310T020000
TZOFFSETFROM:-0800
TZOFFSETTO:-0700
RDATE:20250309T020000
END:DAYLIGHT
END:VTIMEZONE
BEGIN:VEVENT
UID:ef2aadd7-9c59-4026-bad5-85d1e8b46b59
DTSTAMP:20260420T112955Z
DESCRIPTION:KEEP Kinship support groups provide relative caregivers a welco
 me place to share experiences\, get tips and strategies\, and most importa
 ntly the support that is critical in this frequently stressful role. Class
  held on Zoom.
DTSTART;TZID=America/Los_Angeles:20240722T100000
DTEND;TZID=America/Los_Angeles:20240722T113000
LOCATION:
SUMMARY:KEEP Connecting Kin
END:VEVENT
END:VCALENDAR
