BEGIN:VCALENDAR
VERSION:2.0
PRODID:-//frconline.org//NONSGML kigkonsult.se iCalcreator 2.30.10//
CALSCALE:GREGORIAN
METHOD:PUBLISH
UID:bbdf02ea-e256-4eaa-b3d8-909f7603d370
X-WR-CALDESC:Learn about technology & social media \nHow brain development 
 affects teen behavior and decision-making    \nImprove communication & mor
 e!\n
X-WR-RELCALID:d79c6a439e63516c73c92cef2db7c07d
X-WR-TIMEZONE:America/Los_Angeles
BEGIN:VTIMEZONE
TZID:America/Los_Angeles
BEGIN:STANDARD
TZNAME:PST
DTSTART:20231105T020000
TZOFFSETFROM:-0700
TZOFFSETTO:-0800
RDATE:20241103T020000
RDATE:20251102T020000
END:STANDARD
BEGIN:DAYLIGHT
TZNAME:PDT
DTSTART:20240310T020000
TZOFFSETFROM:-0800
TZOFFSETTO:-0700
RDATE:20250309T020000
END:DAYLIGHT
END:VTIMEZONE
BEGIN:VEVENT
UID:7f853fcb-a8b1-42d9-b5f1-1e01c5994ed2
DTSTAMP:20260420T113145Z
DESCRIPTION:Learn about technology & social media \nHow brain development a
 ffects teen behavior and decision-making    \nImprove communication & more
 !\n
DTSTART;TZID=America/Los_Angeles:20240708T180000
DTEND;TZID=America/Los_Angeles:20240708T200000
LOCATION:Held on Zoom
SUMMARY:Active Parenting of Teens
END:VEVENT
END:VCALENDAR
