BEGIN:VCALENDAR
VERSION:2.0
PRODID:-//frconline.org//NONSGML kigkonsult.se iCalcreator 2.30.10//
CALSCALE:GREGORIAN
METHOD:PUBLISH
UID:42c1d19f-8ed4-4b2a-ab95-c4b9569e3c72
X-WR-CALDESC:Learn about technology & social media \nHow brain development 
 affects teen behavior and decision-making    \nImprove communication & mor
 e!\n
X-WR-RELCALID:5d782dac18f0627e95e2a6dd1e6d7c27
X-WR-TIMEZONE:America/Los_Angeles
BEGIN:VTIMEZONE
TZID:America/Los_Angeles
BEGIN:STANDARD
TZNAME:PST
DTSTART:20231105T020000
TZOFFSETFROM:-0700
TZOFFSETTO:-0800
RDATE:20241103T020000
RDATE:20251102T020000
END:STANDARD
BEGIN:DAYLIGHT
TZNAME:PDT
DTSTART:20240310T020000
TZOFFSETFROM:-0800
TZOFFSETTO:-0700
RDATE:20250309T020000
END:DAYLIGHT
END:VTIMEZONE
BEGIN:VEVENT
UID:558113b2-3efd-4d8b-ad9c-72051c1d1427
DTSTAMP:20260420T115559Z
DESCRIPTION:Learn about technology & social media \nHow brain development a
 ffects teen behavior and decision-making    \nImprove communication & more
 !\n
DTSTART;TZID=America/Los_Angeles:20240701T180000
DTEND;TZID=America/Los_Angeles:20240701T200000
LOCATION:Held on Zoom
SUMMARY:Active Parenting of Teens
END:VEVENT
END:VCALENDAR
