BEGIN:VCALENDAR
VERSION:2.0
PRODID:-//frconline.org//NONSGML kigkonsult.se iCalcreator 2.30.10//
CALSCALE:GREGORIAN
METHOD:PUBLISH
UID:57f5af1f-3986-4ea3-ae53-768154c0b9e6
X-WR-CALDESC:
X-WR-RELCALID:5c4893453896227f7591ce3b4ab07408
X-WR-TIMEZONE:America/Los_Angeles
BEGIN:VTIMEZONE
TZID:America/Los_Angeles
BEGIN:STANDARD
TZNAME:PST
DTSTART:20231105T020000
TZOFFSETFROM:-0700
TZOFFSETTO:-0800
RDATE:20241103T020000
RDATE:20251102T020000
END:STANDARD
BEGIN:DAYLIGHT
TZNAME:PDT
DTSTART:20240310T020000
TZOFFSETFROM:-0800
TZOFFSETTO:-0700
RDATE:20250309T020000
END:DAYLIGHT
END:VTIMEZONE
BEGIN:VEVENT
UID:8be60c51-acb6-488f-94a4-4200d379e529
DTSTAMP:20260420T132550Z
DESCRIPTION:
DTSTART;TZID=America/Los_Angeles:20240614T090000
DTEND;TZID=America/Los_Angeles:20240614T103000
LOCATION:Family Resource Center\, 2500 NE Twin Knolls Dr. Suite 130\, Bend 
 \, AL 97701 US
SUMMARY:First Aid & CPR
END:VEVENT
END:VCALENDAR
