BEGIN:VCALENDAR
VERSION:2.0
PRODID:-//frconline.org//NONSGML kigkonsult.se iCalcreator 2.30.10//
CALSCALE:GREGORIAN
METHOD:PUBLISH
UID:5bc1dac6-c5ea-4440-8ac0-7c16144280fb
X-WR-CALDESC:KEEP is a statewide support program available to Oregon's reso
 urce\, kinship\, adoptive\, and assisted guardian parents raising youth ag
 es 2 and up.\n\nKEEP is free & eligible participants can earn up to 24 tra
 ining hours & $25 per household per week attended. \n\nShare and discuss h
 elpful parenting strategies!
X-WR-RELCALID:c3d296b1f044d65d41606de2d8254a2a
X-WR-TIMEZONE:America/Los_Angeles
BEGIN:VTIMEZONE
TZID:America/Los_Angeles
BEGIN:STANDARD
TZNAME:PST
DTSTART:20231105T020000
TZOFFSETFROM:-0700
TZOFFSETTO:-0800
RDATE:20241103T020000
RDATE:20251102T020000
END:STANDARD
BEGIN:DAYLIGHT
TZNAME:PDT
DTSTART:20240310T020000
TZOFFSETFROM:-0800
TZOFFSETTO:-0700
RDATE:20250309T020000
END:DAYLIGHT
END:VTIMEZONE
BEGIN:VEVENT
UID:23fe8c67-5b32-413b-a1e7-f59a6584df10
DTSTAMP:20260420T132626Z
DESCRIPTION:KEEP is a statewide support program available to Oregon's resou
 rce\, kinship\, adoptive\, and assisted guardian parents raising youth age
 s 2 and up.\n\nKEEP is free & eligible participants can earn up to 24 trai
 ning hours & $25 per household per week attended. \n\nShare and discuss he
 lpful parenting strategies!
DTSTART;TZID=America/Los_Angeles:20240604T100000
DTEND;TZID=America/Los_Angeles:20240604T113000
LOCATION:Zoom
SUMMARY:Keep Standard
END:VEVENT
END:VCALENDAR
