BEGIN:VCALENDAR
VERSION:2.0
PRODID:-//frconline.org//NONSGML kigkonsult.se iCalcreator 2.30.10//
CALSCALE:GREGORIAN
METHOD:PUBLISH
UID:3fc587ac-35ba-4205-9510-61fc5131de0e
X-WR-CALDESC:Para padres con hijos recien nacidos - 5 años\nJueves de 5:30 
 a 7:30pm\n14 de Marzo al 16 de Mayo de 2024
X-WR-RELCALID:bf9ce01cf0a0960612b37e303c6d0e4d
X-WR-TIMEZONE:America/Los_Angeles
BEGIN:VTIMEZONE
TZID:America/Los_Angeles
BEGIN:STANDARD
TZNAME:PST
DTSTART:20231105T020000
TZOFFSETFROM:-0700
TZOFFSETTO:-0800
RDATE:20241103T020000
RDATE:20251102T020000
END:STANDARD
BEGIN:DAYLIGHT
TZNAME:PDT
DTSTART:20240310T020000
TZOFFSETFROM:-0800
TZOFFSETTO:-0700
RDATE:20250309T020000
END:DAYLIGHT
END:VTIMEZONE
BEGIN:VEVENT
UID:ae401cb7-7776-4301-a548-e4935f460e83
DTSTAMP:20260420T151321Z
DESCRIPTION:Para padres con hijos recien nacidos - 5 años\nJueves de 5:30 a
  7:30pm\n14 de Marzo al 16 de Mayo de 2024
DTSTART;TZID=America/Los_Angeles:20240530T173000
DTEND;TZID=America/Los_Angeles:20240530T193000
LOCATION:659 NE A St\, Madras\, OR 97741 US
SUMMARY:Círculo de Seguridad De Padres
END:VEVENT
END:VCALENDAR
