BEGIN:VCALENDAR
VERSION:2.0
PRODID:-//frconline.org//NONSGML kigkonsult.se iCalcreator 2.30.10//
CALSCALE:GREGORIAN
METHOD:PUBLISH
UID:2e761490-007e-452d-bcc1-627725735ab3
X-WR-CALDESC:Join a community of parents to:\n\n· Discover ways to manage s
 tress.\n\n· Learn about child development.\n\n· Build your toolkit for pos
 itive discipline.
X-WR-RELCALID:38a78879d80bee8b6af0fb9271268cdc
X-WR-TIMEZONE:America/Los_Angeles
BEGIN:VTIMEZONE
TZID:America/Los_Angeles
BEGIN:STANDARD
TZNAME:PST
DTSTART:20231105T020000
TZOFFSETFROM:-0700
TZOFFSETTO:-0800
RDATE:20241103T020000
RDATE:20251102T020000
END:STANDARD
BEGIN:DAYLIGHT
TZNAME:PDT
DTSTART:20240310T020000
TZOFFSETFROM:-0800
TZOFFSETTO:-0700
RDATE:20250309T020000
END:DAYLIGHT
END:VTIMEZONE
BEGIN:VEVENT
UID:4a169749-d389-4141-87a9-626c660aa246
DTSTAMP:20260420T150719Z
DESCRIPTION:Join a community of parents to:\n\n· Discover ways to manage st
 ress.\n\n· Learn about child development.\n\n· Build your toolkit for posi
 tive discipline.
DTSTART;TZID=America/Los_Angeles:20240522T173000
DTEND;TZID=America/Los_Angeles:20240522T193000
LOCATION:2500 NE Twin Knolls Dr.\, Suite 130\, Bend\, OR 97701 US
SUMMARY:Make Parenting A Pleasure
END:VEVENT
END:VCALENDAR
