BEGIN:VCALENDAR
VERSION:2.0
PRODID:-//frconline.org//NONSGML kigkonsult.se iCalcreator 2.30.10//
CALSCALE:GREGORIAN
METHOD:PUBLISH
UID:971d94f3-9266-49d2-bd5c-f2d51f090862
X-WR-CALDESC:Para padres con hijos recien nacidos - 5 años\nJueves de 5:30 
 a 7:30pm\n14 de Marzo al 16 de Mayo de 2024
X-WR-RELCALID:e829a7840b2bfc7cba69f82764f32cf9
X-WR-TIMEZONE:America/Los_Angeles
BEGIN:VTIMEZONE
TZID:America/Los_Angeles
BEGIN:STANDARD
TZNAME:PST
DTSTART:20231105T020000
TZOFFSETFROM:-0700
TZOFFSETTO:-0800
RDATE:20241103T020000
END:STANDARD
BEGIN:DAYLIGHT
TZNAME:PDT
DTSTART:20240310T020000
TZOFFSETFROM:-0800
TZOFFSETTO:-0700
RDATE:20250309T020000
END:DAYLIGHT
END:VTIMEZONE
BEGIN:VEVENT
UID:5e440dd9-5d93-4792-ba48-fe228399426e
DTSTAMP:20260420T170914Z
DESCRIPTION:Para padres con hijos recien nacidos - 5 años\nJueves de 5:30 a
  7:30pm\n14 de Marzo al 16 de Mayo de 2024
DTSTART;TZID=America/Los_Angeles:20240411T173000
DTEND;TZID=America/Los_Angeles:20240411T193000
LOCATION:659 NE A St\, Madras\, OR 97741 US
SUMMARY:Círculo de Seguridad De Padres
END:VEVENT
END:VCALENDAR
