BEGIN:VCALENDAR
VERSION:2.0
PRODID:-//frconline.org//NONSGML kigkonsult.se iCalcreator 2.30.10//
CALSCALE:GREGORIAN
METHOD:PUBLISH
UID:94b9e181-bbe6-440f-b29c-cd1f4e8d7945
X-WR-CALDESC:KEEP is a statewide support program available to Oregon's reso
 urce\, kinship\, adoptive\, and assisted guardian parents raising youth ag
 es 2 and up.\n\nKEEP is free & eligible participants can earn up to 24 tra
 ining hours & $25 per household per week attended. \n\nShare and discuss h
 elpful parenting strategies!
X-WR-RELCALID:bc7c82628b9e64dd1a1f8cd5a334f425
X-WR-TIMEZONE:America/Los_Angeles
BEGIN:VTIMEZONE
TZID:America/Los_Angeles
BEGIN:STANDARD
TZNAME:PST
DTSTART:20231105T020000
TZOFFSETFROM:-0700
TZOFFSETTO:-0800
RDATE:20241103T020000
END:STANDARD
BEGIN:DAYLIGHT
TZNAME:PDT
DTSTART:20240310T020000
TZOFFSETFROM:-0800
TZOFFSETTO:-0700
RDATE:20250309T020000
END:DAYLIGHT
END:VTIMEZONE
BEGIN:VEVENT
UID:fb791042-70a7-49a8-84c4-38ca2de601e6
DTSTAMP:20260420T164754Z
DESCRIPTION:KEEP is a statewide support program available to Oregon's resou
 rce\, kinship\, adoptive\, and assisted guardian parents raising youth age
 s 2 and up.\n\nKEEP is free & eligible participants can earn up to 24 trai
 ning hours & $25 per household per week attended. \n\nShare and discuss he
 lpful parenting strategies!
DTSTART;TZID=America/Los_Angeles:20240402T100000
DTEND;TZID=America/Los_Angeles:20240402T113000
LOCATION:Zoom
SUMMARY:Keep Standard
END:VEVENT
END:VCALENDAR
