BEGIN:VCALENDAR
VERSION:2.0
PRODID:-//frconline.org//NONSGML kigkonsult.se iCalcreator 2.30.10//
CALSCALE:GREGORIAN
METHOD:PUBLISH
UID:2dd37f69-ced5-4470-8192-4290a3538163
X-WR-CALDESC:Imagine what it might feel like if you were able to make sense
  of what your child was really asking from you.\nHelp your child feel safe
 \, regulate their emotions\, and build their self-esteem.\n\nFor parents w
 ith children birth - 5 years.
X-WR-RELCALID:f4a0c1d3f7ee65ee22b6131df4769808
X-WR-TIMEZONE:America/Los_Angeles
BEGIN:VTIMEZONE
TZID:America/Los_Angeles
BEGIN:STANDARD
TZNAME:PST
DTSTART:20231105T020000
TZOFFSETFROM:-0700
TZOFFSETTO:-0800
RDATE:20241103T020000
END:STANDARD
BEGIN:DAYLIGHT
TZNAME:PDT
DTSTART:20240310T020000
TZOFFSETFROM:-0800
TZOFFSETTO:-0700
RDATE:20250309T020000
END:DAYLIGHT
END:VTIMEZONE
BEGIN:VEVENT
UID:5584e5ff-6042-4324-8dc0-7cbb2def8cc2
DTSTAMP:20260420T181953Z
DESCRIPTION:Imagine what it might feel like if you were able to make sense 
 of what your child was really asking from you.\nHelp your child feel safe\
 , regulate their emotions\, and build their self-esteem.\n\nFor parents wi
 th children birth - 5 years.
DTSTART;TZID=America/Los_Angeles:20240313T173000
DTEND;TZID=America/Los_Angeles:20240313T193000
LOCATION:
SUMMARY:Circle of Security
END:VEVENT
END:VCALENDAR
