BEGIN:VCALENDAR
VERSION:2.0
PRODID:-//frconline.org//NONSGML kigkonsult.se iCalcreator 2.30.10//
CALSCALE:GREGORIAN
METHOD:PUBLISH
UID:d8502086-d3e3-4b51-932d-0cd619769708
X-WR-CALDESC:KEEP is a statewide support program available to Oregon's reso
 urce\, kinship\, adoptive\, and assisted guardian parents raising youth ag
 es 2 and up.\n\nKEEP is free & eligible participants can earn up to 24 tra
 ining hours & $25 per household per week attended. \n\nShare and discuss h
 elpful parenting strategies!
X-WR-RELCALID:6fd6c974ac4f49f46d39907c0738ea86
X-WR-TIMEZONE:America/Los_Angeles
BEGIN:VTIMEZONE
TZID:America/Los_Angeles
BEGIN:STANDARD
TZNAME:PST
DTSTART:20231105T020000
TZOFFSETFROM:-0700
TZOFFSETTO:-0800
RDATE:20241103T020000
END:STANDARD
BEGIN:DAYLIGHT
TZNAME:PDT
DTSTART:20230312T020000
TZOFFSETFROM:-0800
TZOFFSETTO:-0700
RDATE:20240310T020000
RDATE:20250309T020000
END:DAYLIGHT
END:VTIMEZONE
BEGIN:VEVENT
UID:48bc53bd-d3c6-48cc-9373-91e9b5c453c2
DTSTAMP:20260421T002235Z
DESCRIPTION:KEEP is a statewide support program available to Oregon's resou
 rce\, kinship\, adoptive\, and assisted guardian parents raising youth age
 s 2 and up.\n\nKEEP is free & eligible participants can earn up to 24 trai
 ning hours & $25 per household per week attended. \n\nShare and discuss he
 lpful parenting strategies!
DTSTART;TZID=America/Los_Angeles:20240229T180000
DTEND;TZID=America/Los_Angeles:20240229T193000
LOCATION:
SUMMARY:Keep Standard
END:VEVENT
END:VCALENDAR
