BEGIN:VCALENDAR
VERSION:2.0
PRODID:-//frconline.org//NONSGML kigkonsult.se iCalcreator 2.30.10//
CALSCALE:GREGORIAN
METHOD:PUBLISH
UID:18c3d85b-3742-4627-9b1a-e3fff2655700
X-WR-CALDESC:Get a 2 year certification in CPR and First Aid. \n\nCost is $
 65 - Scholarships available.
X-WR-RELCALID:79ee00c948cfbb1ca14a686657df5b7f
X-WR-TIMEZONE:America/Los_Angeles
BEGIN:VTIMEZONE
TZID:America/Los_Angeles
BEGIN:STANDARD
TZNAME:PST
DTSTART:20231105T020000
TZOFFSETFROM:-0700
TZOFFSETTO:-0800
RDATE:20241103T020000
END:STANDARD
BEGIN:DAYLIGHT
TZNAME:PDT
DTSTART:20230312T020000
TZOFFSETFROM:-0800
TZOFFSETTO:-0700
RDATE:20240310T020000
RDATE:20250309T020000
END:DAYLIGHT
END:VTIMEZONE
BEGIN:VEVENT
UID:a6e2f701-2f43-47e7-8a55-433edbda3626
DTSTAMP:20260421T001114Z
DESCRIPTION:Get a 2 year certification in CPR and First Aid. \n\nCost is $6
 5 - Scholarships available.
DTSTART;TZID=America/Los_Angeles:20240228T090000
DTEND;TZID=America/Los_Angeles:20240228T103000
LOCATION:2500 NE Twin Knolls Dr\, Suite 130\, Bend\, OR 97701 US
SUMMARY:First Aid & CPR Training
END:VEVENT
END:VCALENDAR
