BEGIN:VCALENDAR
VERSION:2.0
PRODID:-//frconline.org//NONSGML kigkonsult.se iCalcreator 2.30.10//
CALSCALE:GREGORIAN
METHOD:PUBLISH
UID:ab543b69-6099-4ff8-bc93-68083c696962
X-WR-CALDESC:For families with youth ages 10-17 years old.\nLearn about:\n-
 Technology & social media\n-How brain development affects teen behavior an
 d decision-making\n-Improve communication & more!\n\nHeld on Zoom
X-WR-RELCALID:6e10e459624df3042abd8a1b5c95db0f
X-WR-TIMEZONE:America/Los_Angeles
BEGIN:VTIMEZONE
TZID:America/Los_Angeles
BEGIN:STANDARD
TZNAME:PST
DTSTART:20231105T020000
TZOFFSETFROM:-0700
TZOFFSETTO:-0800
RDATE:20241103T020000
END:STANDARD
BEGIN:DAYLIGHT
TZNAME:PDT
DTSTART:20230312T020000
TZOFFSETFROM:-0800
TZOFFSETTO:-0700
RDATE:20240310T020000
RDATE:20250309T020000
END:DAYLIGHT
END:VTIMEZONE
BEGIN:VEVENT
UID:354f55f8-7bcc-405a-adcf-5a677e83f088
DTSTAMP:20260421T002638Z
DESCRIPTION:For families with youth ages 10-17 years old.\nLearn about:\n-T
 echnology & social media\n-How brain development affects teen behavior and
  decision-making\n-Improve communication & more!\n\nHeld on Zoom
DTSTART;TZID=America/Los_Angeles:20240215T173000
DTEND;TZID=America/Los_Angeles:20240215T193000
LOCATION:
SUMMARY:Active Parenting of Teens
END:VEVENT
END:VCALENDAR
