BEGIN:VCALENDAR
VERSION:2.0
PRODID:-//frconline.org//NONSGML kigkonsult.se iCalcreator 2.30.10//
CALSCALE:GREGORIAN
METHOD:PUBLISH
UID:ba9c426e-49ff-4739-8f74-37dabcf4e7d6
X-WR-CALDESC:For families with youth ages 10-17 years old.\nLearn about:\n-
 Technology & social media\n-How brain development affects teen behavior an
 d decision-making\n-Improve communication & more!\n\nHeld on Zoom
X-WR-RELCALID:11d2e6c1f44b7e28082e7d8c3b13f19e
X-WR-TIMEZONE:America/Los_Angeles
BEGIN:VTIMEZONE
TZID:America/Los_Angeles
BEGIN:STANDARD
TZNAME:PST
DTSTART:20231105T020000
TZOFFSETFROM:-0700
TZOFFSETTO:-0800
RDATE:20241103T020000
END:STANDARD
BEGIN:DAYLIGHT
TZNAME:PDT
DTSTART:20230312T020000
TZOFFSETFROM:-0800
TZOFFSETTO:-0700
RDATE:20240310T020000
RDATE:20250309T020000
END:DAYLIGHT
END:VTIMEZONE
BEGIN:VEVENT
UID:9a6b7016-7361-4223-a3e2-11be04677d6d
DTSTAMP:20260421T014448Z
DESCRIPTION:For families with youth ages 10-17 years old.\nLearn about:\n-T
 echnology & social media\n-How brain development affects teen behavior and
  decision-making\n-Improve communication & more!\n\nHeld on Zoom
DTSTART;TZID=America/Los_Angeles:20240118T173000
DTEND;TZID=America/Los_Angeles:20240118T193000
LOCATION:
SUMMARY:Active Parenting of Teens
END:VEVENT
END:VCALENDAR
