BEGIN:VCALENDAR
VERSION:2.0
PRODID:-//frconline.org//NONSGML kigkonsult.se iCalcreator 2.30.10//
CALSCALE:GREGORIAN
METHOD:PUBLISH
UID:abbc8bfc-26a1-4117-bf38-8fbdcf42982e
X-WR-CALDESC:Keep Standard is for foster parents with children 4-12 years o
 ld. \nKEEP foster parent support groups provide foster parents a welcome p
 lace to share experiences\, get tips and strategies\, and most importantly
  the support that is critical in this frequently stressful role
X-WR-RELCALID:08794c9af4b89206d05e61f3a95fd9d9
X-WR-TIMEZONE:America/Los_Angeles
BEGIN:VTIMEZONE
TZID:America/Los_Angeles
BEGIN:STANDARD
TZNAME:PST
DTSTART:20221106T020000
TZOFFSETFROM:-0700
TZOFFSETTO:-0800
RDATE:20231105T020000
RDATE:20241103T020000
END:STANDARD
BEGIN:DAYLIGHT
TZNAME:PDT
DTSTART:20230312T020000
TZOFFSETFROM:-0800
TZOFFSETTO:-0700
RDATE:20240310T020000
RDATE:20250309T020000
END:DAYLIGHT
END:VTIMEZONE
BEGIN:VEVENT
UID:645fc3c8-1942-46c6-998c-f79d5258f500
DTSTAMP:20260421T062733Z
DESCRIPTION:Keep Standard is for foster parents with children 4-12 years ol
 d. \nKEEP foster parent support groups provide foster parents a welcome pl
 ace to share experiences\, get tips and strategies\, and most importantly 
 the support that is critical in this frequently stressful role
DTSTART;TZID=America/Los_Angeles:20231018T180000
DTEND;TZID=America/Los_Angeles:20231018T193000
LOCATION:Zoom
SUMMARY:KEEP Standard
END:VEVENT
END:VCALENDAR
