BEGIN:VCALENDAR
VERSION:2.0
PRODID:-//frconline.org//NONSGML kigkonsult.se iCalcreator 2.30.10//
CALSCALE:GREGORIAN
METHOD:PUBLISH
UID:99767881-647f-4476-98c7-6558492091a1
X-WR-CALDESC:Keep Standard is for foster parents with children 4-12 years o
 ld. \nKEEP foster parent support groups provide foster parents a welcome p
 lace to share experiences\, get tips and strategies\, and most importantly
  the support that is critical in this frequently stressful role
X-WR-RELCALID:c6ab5bf78131263db9a85e274c92a90a
X-WR-TIMEZONE:America/Los_Angeles
BEGIN:VTIMEZONE
TZID:America/Los_Angeles
BEGIN:STANDARD
TZNAME:PST
DTSTART:20221106T020000
TZOFFSETFROM:-0700
TZOFFSETTO:-0800
RDATE:20231105T020000
RDATE:20241103T020000
END:STANDARD
BEGIN:DAYLIGHT
TZNAME:PDT
DTSTART:20230312T020000
TZOFFSETFROM:-0800
TZOFFSETTO:-0700
RDATE:20240310T020000
RDATE:20250309T020000
END:DAYLIGHT
END:VTIMEZONE
BEGIN:VEVENT
UID:c1b30679-41ba-485b-9f37-64e044467c64
DTSTAMP:20260421T062758Z
DESCRIPTION:Keep Standard is for foster parents with children 4-12 years ol
 d. \nKEEP foster parent support groups provide foster parents a welcome pl
 ace to share experiences\, get tips and strategies\, and most importantly 
 the support that is critical in this frequently stressful role
DTSTART;TZID=America/Los_Angeles:20231011T180000
DTEND;TZID=America/Los_Angeles:20231011T193000
LOCATION:Zoom
SUMMARY:KEEP Standard
END:VEVENT
END:VCALENDAR
