BEGIN:VCALENDAR
VERSION:2.0
PRODID:-//frconline.org//NONSGML kigkonsult.se iCalcreator 2.30.10//
CALSCALE:GREGORIAN
METHOD:PUBLISH
UID:12a05211-6412-4764-8206-1436af528342
X-WR-CALDESC:Durante este taller\, los padres de los niños que iniciarán el
  kínder recibirán información invaluable sobre los derechos educativos\, e
 strategias de comunicación efectiva y una introducción a los planes académ
 icos adaptados a las necesidades de sus hijos. Además\, nos complace ofrec
 er  para quienes indiquen su interés durante el registro un manual gratuit
 o para los padres y un paquete de actividades sorpresa para los niños.\n 
 \nPor favor marque sus calendarios para las fechas de las sesiones:\nSesió
 n de inglés: jueves\, 22 de junio de 2023\nSesión en español: viernes\, 23
  de junio de 2023\nAmbas sesiones se llevarán a cabo de 4:00 p. m. a 6:00 
 p. m.\, hora del Pacífico (EE. UU. y Canadá). La fecha límite de inscripci
 ón es el lunes 12 de junio de 2023 a las 17:00 horas.
X-WR-RELCALID:0354898fd19e52ebc59dbab269edcf32
X-WR-TIMEZONE:America/Los_Angeles
BEGIN:VTIMEZONE
TZID:America/Los_Angeles
BEGIN:STANDARD
TZNAME:PST
DTSTART:20221106T020000
TZOFFSETFROM:-0700
TZOFFSETTO:-0800
RDATE:20231105T020000
RDATE:20241103T020000
END:STANDARD
BEGIN:DAYLIGHT
TZNAME:PDT
DTSTART:20230312T020000
TZOFFSETFROM:-0800
TZOFFSETTO:-0700
RDATE:20240310T020000
END:DAYLIGHT
END:VTIMEZONE
BEGIN:VEVENT
UID:d2033224-e413-4249-b7fe-ff932f9cb39f
DTSTAMP:20260421T125953Z
DESCRIPTION:Durante este taller\, los padres de los niños que iniciarán el 
 kínder recibirán información invaluable sobre los derechos educativos\, es
 trategias de comunicación efectiva y una introducción a los planes académi
 cos adaptados a las necesidades de sus hijos. Además\, nos complace ofrece
 r  para quienes indiquen su interés durante el registro un manual gratuito
  para los padres y un paquete de actividades sorpresa para los niños.\n \n
 Por favor marque sus calendarios para las fechas de las sesiones:\nSesión 
 de inglés: jueves\, 22 de junio de 2023\nSesión en español: viernes\, 23 d
 e junio de 2023\nAmbas sesiones se llevarán a cabo de 4:00 p. m. a 6:00 p.
  m.\, hora del Pacífico (EE. UU. y Canadá). La fecha límite de inscripción
  es el lunes 12 de junio de 2023 a las 17:00 horas.
DTSTART;TZID=America/Los_Angeles:20230623T160000
DTEND;TZID=America/Los_Angeles:20230623T180000
LOCATION:Zoom
SUMMARY:Empoderar a los padres y las familias
END:VEVENT
END:VCALENDAR
