BEGIN:VCALENDAR
VERSION:2.0
PRODID:-//frconline.org//NONSGML kigkonsult.se iCalcreator 2.30.10//
CALSCALE:GREGORIAN
METHOD:PUBLISH
UID:7fbc45e8-c4f3-4a6a-b026-7ec8a6a18586
X-WR-CALDESC:For families with youth ages 10-17 years old. \nLearn about:\n
 -Technology & social media\n-How brain development affects teen behavior a
 nd decision-making\n-Improve communication & more!\n\nWhen: Monday's 6:00-
 8:00pm\nWhere: Zoom\nCost: Free
X-WR-RELCALID:1c29fbbfb2316b33b0d6eacc5d9605a1
X-WR-TIMEZONE:America/Los_Angeles
BEGIN:VTIMEZONE
TZID:America/Los_Angeles
BEGIN:STANDARD
TZNAME:PST
DTSTART:20221106T020000
TZOFFSETFROM:-0700
TZOFFSETTO:-0800
RDATE:20231105T020000
RDATE:20241103T020000
END:STANDARD
BEGIN:DAYLIGHT
TZNAME:PDT
DTSTART:20230312T020000
TZOFFSETFROM:-0800
TZOFFSETTO:-0700
RDATE:20240310T020000
END:DAYLIGHT
END:VTIMEZONE
BEGIN:VEVENT
UID:2a04f496-b666-4c93-a6c6-1bae9e8fb64f
DTSTAMP:20260421T131052Z
DESCRIPTION:For families with youth ages 10-17 years old. \nLearn about:\n-
 Technology & social media\n-How brain development affects teen behavior an
 d decision-making\n-Improve communication & more!\n\nWhen: Monday's 6:00-8
 :00pm\nWhere: Zoom\nCost: Free
DTSTART;TZID=America/Los_Angeles:20230619T180000
DTEND;TZID=America/Los_Angeles:20230619T200000
LOCATION:Zoom
SUMMARY:Active Parenting of Teens_03
END:VEVENT
END:VCALENDAR
