BEGIN:VCALENDAR
VERSION:2.0
PRODID:-//frconline.org//NONSGML kigkonsult.se iCalcreator 2.30.10//
CALSCALE:GREGORIAN
METHOD:PUBLISH
UID:db13026d-5cb3-47b6-a4fd-2b1fbdd5a27c
X-WR-CALDESC:
X-WR-RELCALID:81fbfe120c6a8aae850faa7fac5eb6f6
X-WR-TIMEZONE:America/Los_Angeles
BEGIN:VTIMEZONE
TZID:America/Los_Angeles
BEGIN:STANDARD
TZNAME:PST
DTSTART:20221106T020000
TZOFFSETFROM:-0700
TZOFFSETTO:-0800
RDATE:20231105T020000
RDATE:20241103T020000
END:STANDARD
BEGIN:DAYLIGHT
TZNAME:PDT
DTSTART:20230312T020000
TZOFFSETFROM:-0800
TZOFFSETTO:-0700
RDATE:20240310T020000
END:DAYLIGHT
END:VTIMEZONE
BEGIN:VEVENT
UID:7cf5b480-b5f3-4054-97a8-81536a8450d5
DTSTAMP:20260421T130311Z
DESCRIPTION:
DTSTART;TZID=America/Los_Angeles:20230615T110000
DTEND;TZID=America/Los_Angeles:20230615T220000
LOCATION:61165 S Hwy 97\, Bend\, OR 97702 US
SUMMARY:Handel's Homemade Ice Cream
END:VEVENT
END:VCALENDAR
