BEGIN:VCALENDAR
VERSION:2.0
PRODID:-//frconline.org//NONSGML kigkonsult.se iCalcreator 2.30.10//
CALSCALE:GREGORIAN
METHOD:PUBLISH
UID:991833ef-6db3-4246-8dba-3590029f56cb
X-WR-CALDESC:For Central Oregon parents with children from birth through pr
 eschool. Learn positive parenting strategies and parent with less stress a
 nd more FUN!\n\nFulfills mandated client requirement.\n\nThis is an ongoin
 g class\, meaning you can join at any session. After 12 consecutive sessio
 ns\, you'll receive a certificate.\n\nCost: $Free\n\nCall to register & ge
 t started!
X-WR-RELCALID:193d35b95409ad696214e06668f1dcff
X-WR-TIMEZONE:America/Los_Angeles
BEGIN:VTIMEZONE
TZID:America/Los_Angeles
BEGIN:STANDARD
TZNAME:PST
DTSTART:20221106T020000
TZOFFSETFROM:-0700
TZOFFSETTO:-0800
RDATE:20231105T020000
RDATE:20241103T020000
END:STANDARD
BEGIN:DAYLIGHT
TZNAME:PDT
DTSTART:20230312T020000
TZOFFSETFROM:-0800
TZOFFSETTO:-0700
RDATE:20240310T020000
END:DAYLIGHT
END:VTIMEZONE
BEGIN:VEVENT
UID:63a45580-401f-4317-a0cd-7c5bd33f6fae
DTSTAMP:20260421T130224Z
DESCRIPTION:For Central Oregon parents with children from birth through pre
 school. Learn positive parenting strategies and parent with less stress an
 d more FUN!\n\nFulfills mandated client requirement.\n\nThis is an ongoing
  class\, meaning you can join at any session. After 12 consecutive session
 s\, you'll receive a certificate.\n\nCost: $Free\n\nCall to register & get
  started!
DTSTART;TZID=America/Los_Angeles:20230607T100000
DTEND;TZID=America/Los_Angeles:20230607T113000
LOCATION:Zoom: Phone App\, Laptop\, Desktop
SUMMARY:Nurturing - The Early Years
END:VEVENT
END:VCALENDAR
