BEGIN:VCALENDAR
VERSION:2.0
PRODID:-//frconline.org//NONSGML kigkonsult.se iCalcreator 2.30.10//
CALSCALE:GREGORIAN
METHOD:PUBLISH
UID:1b0da4b2-e2c8-4d91-96e3-d2b9eeb46e88
X-WR-CALDESC:Fun\, interactive games and activities for families! Parents o
 f youth ages 10-14 years old will enjoy FREE family activities\, childcare
 \, and dinner. \n\nYou will:\n-Strengthen family relationships\n-Increase 
 positive communication \n-Resist peer pressure
X-WR-RELCALID:a8b853f1403c6338ed63c9f4da0e845c
X-WR-TIMEZONE:America/Los_Angeles
BEGIN:VTIMEZONE
TZID:America/Los_Angeles
BEGIN:STANDARD
TZNAME:PST
DTSTART:20221106T020000
TZOFFSETFROM:-0700
TZOFFSETTO:-0800
RDATE:20231105T020000
RDATE:20241103T020000
END:STANDARD
BEGIN:DAYLIGHT
TZNAME:PDT
DTSTART:20230312T020000
TZOFFSETFROM:-0800
TZOFFSETTO:-0700
RDATE:20240310T020000
END:DAYLIGHT
END:VTIMEZONE
BEGIN:VEVENT
UID:319d693f-574a-49f9-85ca-062d243be36b
DTSTAMP:20260421T143317Z
DESCRIPTION:Fun\, interactive games and activities for families! Parents of
  youth ages 10-14 years old will enjoy FREE family activities\, childcare\
 , and dinner. \n\nYou will:\n-Strengthen family relationships\n-Increase p
 ositive communication \n-Resist peer pressure
DTSTART;TZID=America/Los_Angeles:20230508T180000
DTEND;TZID=America/Los_Angeles:20230508T200000
LOCATION:La Pine Middle School \, 16360 1st St\, La Pine\, OR 97739 US
SUMMARY:Strengthening Families Program
END:VEVENT
END:VCALENDAR
