BEGIN:VCALENDAR
VERSION:2.0
PRODID:-//frconline.org//NONSGML kigkonsult.se iCalcreator 2.30.10//
CALSCALE:GREGORIAN
METHOD:PUBLISH
UID:47ecbfb6-f9b2-453d-be45-1f33c727020e
X-WR-CALDESC:Fun\, interactive games and activities for families! Parents o
 f youth ages 10-14 years old will enjoy FREE family activities\, childcare
 \, and dinner. \n\nYou will:\n-Strengthen family relationships\n-Increase 
 positive communication \n-Resist peer pressure
X-WR-RELCALID:07d18a72af07585a168bc5192cfc34f4
X-WR-TIMEZONE:America/Los_Angeles
BEGIN:VTIMEZONE
TZID:America/Los_Angeles
BEGIN:STANDARD
TZNAME:PST
DTSTART:20221106T020000
TZOFFSETFROM:-0700
TZOFFSETTO:-0800
RDATE:20231105T020000
END:STANDARD
BEGIN:DAYLIGHT
TZNAME:PDT
DTSTART:20230312T020000
TZOFFSETFROM:-0800
TZOFFSETTO:-0700
RDATE:20240310T020000
END:DAYLIGHT
END:VTIMEZONE
BEGIN:VEVENT
UID:1cd8d4b7-f8fd-474f-843c-476e65c5ac9c
DTSTAMP:20260421T155534Z
DESCRIPTION:Fun\, interactive games and activities for families! Parents of
  youth ages 10-14 years old will enjoy FREE family activities\, childcare\
 , and dinner. \n\nYou will:\n-Strengthen family relationships\n-Increase p
 ositive communication \n-Resist peer pressure
DTSTART;TZID=America/Los_Angeles:20230410T180000
DTEND;TZID=America/Los_Angeles:20230410T200000
LOCATION:La Pine Middle School \, 16360 1st St\, La Pine\, OR 97739 US
SUMMARY:Strengthening Families Program
END:VEVENT
END:VCALENDAR
