BEGIN:VCALENDAR
VERSION:2.0
PRODID:-//frconline.org//NONSGML kigkonsult.se iCalcreator 2.30.10//
CALSCALE:GREGORIAN
METHOD:PUBLISH
UID:84686dde-d62f-48e5-8bfc-77cecea189b3
X-WR-CALDESC:Join us for FREE online workshop where you'll learn:\n- Concre
 te strategies for clear\, honest communication\n- How to be an encouraging
  parent to create harmony & stability in your family\n- Q&A time\n\nNote: 
 This is the second of a two workshop series. You can attend one\, or both!
  They will cover different topics.
X-WR-RELCALID:114109002e2fc9f7c43eee261264bd3d
X-WR-TIMEZONE:America/Los_Angeles
BEGIN:VTIMEZONE
TZID:America/Los_Angeles
BEGIN:STANDARD
TZNAME:PST
DTSTART:20221106T020000
TZOFFSETFROM:-0700
TZOFFSETTO:-0800
RDATE:20231105T020000
END:STANDARD
BEGIN:DAYLIGHT
TZNAME:PDT
DTSTART:20220313T020000
TZOFFSETFROM:-0800
TZOFFSETTO:-0700
RDATE:20230312T020000
RDATE:20240310T020000
END:DAYLIGHT
END:VTIMEZONE
BEGIN:VEVENT
UID:20a94380-b4a3-43ee-8dd8-e1e2f168ae5c
DTSTAMP:20260421T185316Z
DESCRIPTION:Join us for FREE online workshop where you'll learn:\n- Concret
 e strategies for clear\, honest communication\n- How to be an encouraging 
 parent to create harmony & stability in your family\n- Q&A time\n\nNote: T
 his is the second of a two workshop series. You can attend one\, or both! 
 They will cover different topics.
DTSTART;TZID=America/Los_Angeles:20230227T173000
DTEND;TZID=America/Los_Angeles:20230227T190000
LOCATION:Zoom
SUMMARY:Building Courage Workshop
END:VEVENT
END:VCALENDAR
