BEGIN:VCALENDAR
VERSION:2.0
PRODID:-//frconline.org//NONSGML kigkonsult.se iCalcreator 2.30.10//
CALSCALE:GREGORIAN
METHOD:PUBLISH
UID:87334cdc-76d4-4466-a6c3-2d404d770146
X-WR-CALDESC:-A SUPPORT group not a class!\n-For foster parents caring for 
 adolescents ages 13-18 years old\n-A group of 7-12 foster/kinship parents 
 and two trained group leaders\n-A time to connect with other foster parent
 s and kinship families\n-You will receive a $25 check for each remote sess
 ion attended per household\n-You can earn up to 24 foster parent training 
 hours toward DHS certification\n\nCall Rosa at 541-389-5468 to reserve you
 r spot today!\nAll DHS-certified foster parents and kinship families can j
 oin!
X-WR-RELCALID:a99e3b70fdb60963d0591e4354dd7e63
X-WR-TIMEZONE:America/Los_Angeles
BEGIN:VTIMEZONE
TZID:America/Los_Angeles
BEGIN:STANDARD
TZNAME:PST
DTSTART:20221106T020000
TZOFFSETFROM:-0700
TZOFFSETTO:-0800
RDATE:20231105T020000
END:STANDARD
BEGIN:DAYLIGHT
TZNAME:PDT
DTSTART:20220313T020000
TZOFFSETFROM:-0800
TZOFFSETTO:-0700
RDATE:20230312T020000
RDATE:20240310T020000
END:DAYLIGHT
END:VTIMEZONE
BEGIN:VEVENT
UID:26c52be4-94bf-4073-b1a5-08edee9000f5
DTSTAMP:20260421T185414Z
DESCRIPTION:-A SUPPORT group not a class!\n-For foster parents caring for a
 dolescents ages 13-18 years old\n-A group of 7-12 foster/kinship parents a
 nd two trained group leaders\n-A time to connect with other foster parents
  and kinship families\n-You will receive a $25 check for each remote sessi
 on attended per household\n-You can earn up to 24 foster parent training h
 ours toward DHS certification\n\nCall Rosa at 541-389-5468 to reserve your
  spot today!\nAll DHS-certified foster parents and kinship families can jo
 in!
DTSTART;TZID=America/Los_Angeles:20230223T180000
DTEND;TZID=America/Los_Angeles:20230223T193000
LOCATION:Zoom
SUMMARY:KEEP Safe
END:VEVENT
END:VCALENDAR
