BEGIN:VCALENDAR
VERSION:2.0
PRODID:-//frconline.org//NONSGML kigkonsult.se iCalcreator 2.30.10//
CALSCALE:GREGORIAN
METHOD:PUBLISH
UID:e0d8c923-cb12-43e3-a712-739c14add001
X-WR-CALDESC:-Even though littles are adorable - parents deserve a communit
 y of support. Join other parents and discover effective ways to manage str
 ess. \n-Learn the latest in child development Build your toolkit for posit
 ive parenting\n-10-weekly sessions for parents with children ages newborn 
 through age 8.\n\n*Door Prizes!*\nWhen: Wednesday's\nOct. 12 - Dec. 14\, 2
 022 5:30-7:30 PM \nWhere: Jefferson County Community Learning Center\,1180
  SE Kemper Way\nTo Register:\nCall 541-389-5468 # 2\n CHILDCARE\, DINNER &
  A BOOK! INCLUDED FREE!\n
X-WR-RELCALID:6709cbc3d1cf71a98ef04efffaef3e64
X-WR-TIMEZONE:America/Los_Angeles
BEGIN:VTIMEZONE
TZID:America/Los_Angeles
BEGIN:STANDARD
TZNAME:PST
DTSTART:20211107T020000
TZOFFSETFROM:-0700
TZOFFSETTO:-0800
RDATE:20221106T020000
RDATE:20231105T020000
END:STANDARD
BEGIN:DAYLIGHT
TZNAME:PDT
DTSTART:20220313T020000
TZOFFSETFROM:-0800
TZOFFSETTO:-0700
RDATE:20230312T020000
RDATE:20240310T020000
END:DAYLIGHT
END:VTIMEZONE
BEGIN:VEVENT
UID:7bc4a7db-a894-4686-8b5a-7d460317fc91
DTSTAMP:20260422T023834Z
DESCRIPTION:-Even though littles are adorable - parents deserve a community
  of support. Join other parents and discover effective ways to manage stre
 ss. \n-Learn the latest in child development Build your toolkit for positi
 ve parenting\n-10-weekly sessions for parents with children ages newborn t
 hrough age 8.\n\n*Door Prizes!*\nWhen: Wednesday's\nOct. 12 - Dec. 14\, 20
 22 5:30-7:30 PM \nWhere: Jefferson County Community Learning Center\,1180 
 SE Kemper Way\nTo Register:\nCall 541-389-5468 # 2\n CHILDCARE\, DINNER & 
 A BOOK! INCLUDED FREE!\n
DTSTART;TZID=America/Los_Angeles:20221019T173000
DTEND;TZID=America/Los_Angeles:20221019T193000
LOCATION:Jefferson County Community Learning Center\, 1180 SE Kemper Way\, 
 Madras\, OR 97741 US
SUMMARY:Making Parenting a Pleasure
END:VEVENT
END:VCALENDAR
