BEGIN:VCALENDAR
VERSION:2.0
PRODID:-//frconline.org//NONSGML kigkonsult.se iCalcreator 2.30.10//
CALSCALE:GREGORIAN
METHOD:PUBLISH
UID:a1b25325-0165-4c2a-b1b8-5b2b0a9e6799
X-WR-CALDESC:This is an ongoing class for Central Oregon parents with child
 ren between the ages of 5-12 years old -- This is a year round open enroll
 ment class\, enter anytime!\n\nYou'll learn positive parenting strategies 
 and parent with less stress and more FUN. \n\nFulfills mandated client req
 uirement.\n\nYou will receive a certificate after 12 consecutive weeks of 
 participation. \n\nCost: $Free\n\nCall to get register & get started!
X-WR-RELCALID:40a510a0b21f4a3eae8a80eaa790ed90
X-WR-TIMEZONE:America/Los_Angeles
BEGIN:VTIMEZONE
TZID:America/Los_Angeles
BEGIN:STANDARD
TZNAME:PST
DTSTART:20211107T020000
TZOFFSETFROM:-0700
TZOFFSETTO:-0800
RDATE:20221106T020000
RDATE:20231105T020000
END:STANDARD
BEGIN:DAYLIGHT
TZNAME:PDT
DTSTART:20220313T020000
TZOFFSETFROM:-0800
TZOFFSETTO:-0700
RDATE:20230312T020000
RDATE:20240310T020000
END:DAYLIGHT
END:VTIMEZONE
BEGIN:VEVENT
UID:a334c90f-497c-469a-8970-76c976639527
DTSTAMP:20260422T042928Z
DESCRIPTION:This is an ongoing class for Central Oregon parents with childr
 en between the ages of 5-12 years old -- This is a year round open enrollm
 ent class\, enter anytime!\n\nYou'll learn positive parenting strategies a
 nd parent with less stress and more FUN. \n\nFulfills mandated client requ
 irement.\n\nYou will receive a certificate after 12 consecutive weeks of p
 articipation. \n\nCost: $Free\n\nCall to get register & get started!
DTSTART;TZID=America/Los_Angeles:20220929T173000
DTEND;TZID=America/Los_Angeles:20220929T190000
LOCATION:Zoom: Phone App\, Laptop\, Desktop
SUMMARY:Nurturing Parenting (School Age 5-12)
END:VEVENT
END:VCALENDAR
